{"text_format":"1","workbook":"xlsx","n_sheets":7,"sheets":["Index","Event index","climat","Precip.","Temp. (raw)","Temp. (detrend)","Work"],"not_rendered":{"charts":3,"images":4,"macros":1,"external_links":0,"defined_names":5,"comments":0,"pivot_tables":0},"unopened":[],"bounds":{"document_bytes":16777216,"sheet_cells":100000,"rows_first":2000,"rows_last":500,"rows_between":2000,"halvings":0,"cell_chars":16384,"cell_head_chars":4096},"cells_cut":0,"cells_raw":0,"read":"whole","date_system":"1900"}

{"sheet":"Index","index":0,"n_rows":69,"n_cols":13,"rows_kept":69,"cut":false,"hidden":false,"merged":[]}
[]
["Year","JAN","FEB","MAR","APR","MAY","JUN","JUL","AUG","SEP","OCT","NOV","DEC"]
[1949,-0.2,-0.1,0.1,0,-0.2,-0.3,-0.5,-0.8,-0.9,-1,-1.2,-1.2]
[1950,-1.2,-1,-0.9,-0.8,-0.6,-0.6,-0.5,-0.4,-0.4,-0.4,-0.4,-0.3]
[1951,-0.2,-0.1,0.1,0.2,0.5,0.7,0.8,1,1.1000000000000001,0.9,0.9,0.8]
[1952,0.6,0.5,0.4,0.1,-0.1,-0.2,-0.2,-0.2,-0.2,-0.1,0,0.1]
[1953,0.1,0.3,0.4,0.5,0.6,0.6,0.6,0.6,0.5,0.5,0.5,0.4]
[1954,0.3,-0.1,-0.3,-0.6,-0.7,-0.9,-0.8,-0.8,-0.7,-0.8,-0.7,-0.6]
[1955,-0.6,-0.6,-0.6,-0.7,-0.8,-0.8,-0.9,-0.9,-1.1000000000000001,-1.2,-1.2,-1]
[1956,-0.7,-0.5,-0.3,-0.2,-0.2,-0.2,-0.3,-0.3,-0.4,-0.5,-0.5,-0.5]
[1957,-0.3,0,0.3,0.6,0.9,1.1000000000000001,1.2,1.2,1.3,1.3,1.3,1.4]
[1958,1.3,1.1000000000000001,0.8,0.6,0.4,0.3,0.2,0.2,0.2,0.2,0.1,0.1]
[1959,0.1,0.1,0.1,0.1,0,-0.1,-0.2,-0.1,-0.1,0,0.1,0.1]
[1960,0.1,0,0,0,0,0,0.1,0,-0.1,-0.1,-0.2,-0.2]
[1961,-0.1,0,0.1,0.1,0,-0.1,-0.3,-0.4,-0.5,-0.4,-0.3,-0.2]
[1962,-0.1,-0.1,-0.3,-0.3,-0.3,-0.3,-0.3,-0.2,-0.2,-0.3,-0.4,-0.4]
[1963,-0.3,-0.3,0,0.1,0.4,0.6,0.8,0.9,1,1.1000000000000001,1,0.9]
[1964,0.6,0.3,-0.2,-0.6,-0.8,-1,-0.9,-0.8,-0.7,-0.8,-0.7,-0.6]
[1965,-0.5,-0.3,0.1,0.4,0.7,0.9,1.2,1.3,1.4,1.5,1.5,1.4]
[1966,1.1000000000000001,0.8,0.3,0,-0.1,-0.1,-0.2,-0.1,-0.1,-0.3,-0.3,-0.3]
[1967,-0.4,-0.5,-0.4,-0.3,-0.3,-0.3,-0.3,-0.4,-0.6,-0.7,-0.8,-0.9]
[1968,-0.9,-0.9,-0.8,-0.6,-0.3,0,0.2,0.4,0.5,0.6,0.6,0.6]
[1969,0.7,0.7,0.7,0.7,0.7,0.7,0.7,0.7,0.8,1,1.1000000000000001,1]
[1970,0.8,0.6,0.3,-0.2,-0.5,-0.8,-1,-1,-1,-0.9,-0.9,-1]
[1971,-1.1000000000000001,-1,-0.9,-0.8,-0.6,-0.5,-0.5,-0.6,-0.6,-0.7,-0.7,-0.6]
[1972,-0.4,-0.2,0.1,0.4,0.8,1.2,1.5,1.8,2.1,2.2999999999999998,2.2999999999999998,2.2000000000000002]
[1973,1.8,1.3,0.6,0.1,-0.4,-0.7,-0.8,-0.9,-1,-1.1000000000000001,-1.2,-1.2]
[1974,-1.1000000000000001,-0.9,-0.7,-0.4,-0.2,-0.1,-0.1,-0.1,-0.2,-0.3,-0.3,-0.4]
[1975,-0.3,-0.3,-0.3,-0.5,-0.5,-0.5,-0.7,-0.8,-0.7,-0.8,-1,-1]
[1976,-0.9,-0.8,-0.5,0,0.3,0.6,0.9,1.1000000000000001,1.3,1.3,1.3,1.2]
[1977,1,0.7,0.5,0.4,0.2,0,0.1,0.2,0.3,0.4,0.5,0.5]
[1978,0.4,0.2,0,-0.3,-0.4,-0.6,-0.6,-0.5,-0.3,-0.1,0.1,0.2]
[1979,0.2,0.3,0.3,0.4,0.3,0.3,0.4,0.4,0.5,0.7,0.8,0.6]
[1980,0.5,0.4,0.3,0.3,0.3,0.3,0.2,0.1,0.1,0.1,0,-0.1]
[1981,-0.2,-0.3,-0.3,-0.2,-0.1,-0.1,0,0,-0.1,0,0.2,0.2]
[1982,0.1,0.2,0.4,0.5,0.6,0.9,1.2,1.5,1.8,2.2999999999999998,2.6,2.7]
[1983,2.7,2.5,2.2999999999999998,2.1,1.8,1.6,1.3,0.9,0.3,0,-0.3,-0.4]
[1984,-0.3,-0.1,-0.1,-0.2,-0.4,-0.4,-0.5,-0.6,-0.5,-0.6,-0.7,-0.9]
[1985,-0.9,-0.9,-0.8,-0.7,-0.7,-0.6,-0.5,-0.5,-0.5,-0.4,-0.5,-0.4]
[1986,-0.3,-0.3,-0.2,-0.1,0.1,0.1,0.3,0.4,0.6,0.7,0.9,1]
[1987,1.1000000000000001,1.1000000000000001,1.2,1.2,1.3,1.4,1.5,1.5,1.5,1.4,1.2,0.9]
[1988,0.6,0.3,-0.2,-0.7,-1.1000000000000001,-1.4,-1.5,-1.5,-1.5,-1.5,-1.5,-1.4]
[1989,-1.4,-1.1000000000000001,-0.9,-0.6,-0.5,-0.3,-0.3,-0.2,-0.3,-0.3,-0.3,-0.2]
[1990,-0.1,0,0.2,0.3,0.4,0.4,0.4,0.3,0.2,0.1,0.1,0.1]
[1991,0.1,0.2,0.3,0.5,0.7,0.8,0.9,0.9,0.9,0.9,1.1000000000000001,1.3]
[1992,1.4,1.4,1.4,1.3,1,0.7,0.5,0.1,0,-0.1,-0.1,0]
[1993,0.1,0.4,0.6,0.8,0.8,0.7,0.5,0.4,0.3,0.2,0.3,0.2]
[1994,0.1,0,0,0,-0.1,-0.1,0,0.1,0.3,0.6,0.7,0.8]
[1995,0.7,0.4,0.1,-0.1,-0.3,-0.4,-0.5,-0.5,-0.6,-0.8,-0.8,-0.7]
[1996,-0.6,-0.5,-0.4,-0.4,-0.4,-0.4,-0.3,-0.3,-0.3,-0.5,-0.6,-0.6]
[1997,-0.5,-0.4,0,0.5,1.1000000000000001,1.7,2.2000000000000002,2.7,3.1,3.3,3.3,3.2]
[1998,3,2.6,2.2000000000000002,1.5,0.9,0.4,-0.1,-0.5,-0.7,-0.9,-1.1000000000000001,-1.2]
[1999,-1,-1,-0.8,-0.7,-0.6,-0.7,-0.8,-0.9,-1.1000000000000001,-1.3,-1.5,-1.5]
[2000,-1.3,-1,-0.7,-0.5,-0.3,-0.3,-0.4,-0.4,-0.4,-0.5,-0.5,-0.5]
[2001,-0.4,-0.3,-0.2,-0.1,0,0,-0.1,-0.2,-0.3,-0.4,-0.5,-0.4]
[2002,-0.3,-0.1,0,0.3,0.4,0.5,0.6,0.7,0.8,1,1,1]
[2003,0.8,0.5,0,-0.2,-0.2,-0.2,-0.1,0.1,0.3,0.4,0.4,0.4]
[2004,0.4,0.3,0.1,0,-0.1,0,0,0.2,0.3,0.4,0.4,0.3]
[2005,0.2,0.1,0.1,0.1,0.2,0.3,0.2,0.1,-0.2,-0.5,-0.7,-0.8]
[2006,-0.8,-0.7,-0.5,-0.3,-0.2,0.1,0.3,0.4,0.6,0.8,0.9,0.8]
[2007,0.5,0.2,-0.2,-0.5,-0.6,-0.7,-0.9,-1.1000000000000001,-1.3,-1.4,-1.5,-1.5]
[2008,-1.4,-1.1000000000000001,-0.8,-0.5,-0.1,0.1,0.2,0.2,0.2,0,-0.2,-0.4]
[2009,-0.5,-0.5,-0.3,0,0.3,0.5,0.7,0.8,0.9,1,1,1.1000000000000001]
[2010,1.1000000000000001,0.9,0.7,0.3,0,-0.4,-0.8,-1.1000000000000001,-1.3,-1.4,-1.5,-1.4]
[2011,-1.2,-0.9,-0.7,-0.4,-0.2,-0.2,-0.2,-0.4,-0.6,-0.8,-0.8,-0.7]
[2012,-0.6,-0.3,-0.1,0.1,0.3,0.4,0.5,0.5,0.4,0.2,0,-0.2]
[2013,-0.2,-0.3,-0.4,-0.4,-0.5,-0.6,-0.6,-0.5,-0.3,-0.2,-0.1,-0.2]
[2014,-0.2,-0.1,0,0.2,0.4,0.5,0.5,0.5,0.6,0.7,0.7,0.6]
[2015,0.5,0.5,0.6,0.8,1.2,1.6,1.9,2.2000000000000002,2.5,2.7,2.8,2.7]

{"sheet":"Event index","index":1,"n_rows":72,"n_cols":13,"rows_kept":72,"cut":false,"hidden":false,"merged":[]}
[]
["# Index: NINO.3"]
["# Year 1949 2015 5-months-running mean :: 6 months consecutive constraint"]
["# Index<=-1:","La Nina","-1<Index<1","Neutral","1<=Index:","El Nino"]
["Year","JAN","FEB","MAR","APR","MAY","JUN","JUL","AUG","SEP","OCT","NOV","DEC"]
[1949,0,0,0,0,0,0,-1,-1,-1,-1,-1,-1]
[1950,-1,-1,-1,-1,-1,-1,-1,0,0,0,0,0]
[1951,0,0,0,0,1,1,1,1,1,1,1,1]
[1952,1,1,0,0,0,0,0,0,0,0,0,0]
[1953,0,0,0,1,1,1,1,1,1,1,1,0]
[1954,0,0,0,-1,-1,-1,-1,-1,-1,-1,-1,-1]
[1955,-1,-1,-1,-1,-1,-1,-1,-1,-1,-1,-1,-1]
[1956,-1,-1,0,0,0,0,0,0,0,0,0,0]
[1957,0,0,0,1,1,1,1,1,1,1,1,1]
[1958,1,1,1,1,0,0,0,0,0,0,0,0]
[1959,0,0,0,0,0,0,0,0,0,0,0,0]
[1960,0,0,0,0,0,0,0,0,0,0,0,0]
[1961,0,0,0,0,0,0,0,0,0,0,0,0]
[1962,0,0,0,0,0,0,0,0,0,0,0,0]
[1963,0,0,0,0,0,1,1,1,1,1,1,1]
[1964,1,0,0,-1,-1,-1,-1,-1,-1,-1,-1,-1]
[1965,-1,0,0,0,1,1,1,1,1,1,1,1]
[1966,1,1,0,0,0,0,0,0,0,0,0,0]
[1967,0,0,0,0,0,0,0,0,-1,-1,-1,-1]
[1968,-1,-1,-1,-1,0,0,0,0,1,1,1,1]
[1969,1,1,1,1,1,1,1,1,1,1,1,1]
[1970,1,1,0,0,-1,-1,-1,-1,-1,-1,-1,-1]
[1971,-1,-1,-1,-1,-1,-1,-1,-1,-1,-1,-1,-1]
[1972,0,0,0,0,1,1,1,1,1,1,1,1]
[1973,1,1,1,0,0,-1,-1,-1,-1,-1,-1,-1]
[1974,-1,-1,-1,0,0,0,0,0,0,0,0,0]
[1975,0,0,0,-1,-1,-1,-1,-1,-1,-1,-1,-1]
[1976,-1,-1,-1,0,0,1,1,1,1,1,1,1]
[1977,1,1,1,0,0,0,0,0,0,0,0,0]
[1978,0,0,0,0,0,0,0,0,0,0,0,0]
[1979,0,0,0,0,0,0,0,0,0,0,0,0]
[1980,0,0,0,0,0,0,0,0,0,0,0,0]
[1981,0,0,0,0,0,0,0,0,0,0,0,0]
[1982,0,0,0,1,1,1,1,1,1,1,1,1]
[1983,1,1,1,1,1,1,1,1,0,0,0,0]
[1984,0,0,0,0,0,0,-1,-1,-1,-1,-1,-1]
[1985,-1,-1,-1,-1,-1,-1,-1,-1,-1,0,0,0]
[1986,0,0,0,0,0,0,0,0,1,1,1,1]
[1987,1,1,1,1,1,1,1,1,1,1,1,1]
[1988,1,0,0,-1,-1,-1,-1,-1,-1,-1,-1,-1]
[1989,-1,-1,-1,-1,-1,0,0,0,0,0,0,0]
[1990,0,0,0,0,0,0,0,0,0,0,0,0]
[1991,0,0,0,1,1,1,1,1,1,1,1,1]
[1992,1,1,1,1,1,1,1,0,0,0,0,0]
[1993,0,0,0,0,0,0,0,0,0,0,0,0]
[1994,0,0,0,0,0,0,0,0,0,0,0,0]
[1995,0,0,0,0,0,0,-1,-1,-1,-1,-1,-1]
[1996,-1,-1,0,0,0,0,0,0,0,0,0,0]
[1997,0,0,0,1,1,1,1,1,1,1,1,1]
[1998,1,1,1,1,1,0,0,-1,-1,-1,-1,-1]
[1999,-1,-1,-1,-1,-1,-1,-1,-1,-1,-1,-1,-1]
[2000,-1,-1,-1,-1,0,0,0,0,0,0,0,0]
[2001,0,0,0,0,0,0,0,0,0,0,0,0]
[2002,0,0,0,0,0,1,1,1,1,1,1,1]
[2003,1,1,0,0,0,0,0,0,0,0,0,0]
[2004,0,0,0,0,0,0,0,0,0,0,0,0]
[2005,0,0,0,0,0,0,0,0,0,-1,-1,-1]
[2006,-1,-1,-1,0,0,0,0,0,0,0,0,0]
[2007,0,0,0,-1,-1,-1,-1,-1,-1,-1,-1,-1]
[2008,-1,-1,-1,-1,0,0,0,0,0,0,0,0]
[2009,0,0,0,0,0,1,1,1,1,1,1,1]
[2010,1,1,1,0,0,0,-1,-1,-1,-1,-1,-1]
[2011,-1,-1,-1,0,0,0,0,0,0,0,0,0]
[2012,0,0,0,0,0,0,0,0,0,0,0,0]
[2013,0,0,0,0,0,0,0,0,0,0,0,0]
[2014,0,0,0,0,0,1,1,1,1,1,1,1]
[2015,1,1,1,1,1,1,1,1,1,1,1,1]

{"sheet":"climat","index":2,"n_rows":759,"n_cols":4,"rows_kept":759,"cut":false,"hidden":false,"merged":[]}
["#station= Dhaka"]
["WMOnumber=41923"]
["Year","Month","Mean_Temp","Precip"]
[1953,1,18,0]
[1953,2,22.1,0]
[1953,3,27.2,0]
[1953,4,29.2,90]
[1953,5,28.5,274]
[1953,6,28.2,333]
[1953,7,28.2,392]
[1953,8,28.6,326]
[1953,9,28.7,352]
[1953,10,26.9,52]
[1953,11,22.9,13]
[1953,12,20.8,0]
[1954,1,17.399999999999999,14]
[1954,2,23.2,0]
[1954,3,26.5,0]
[1954,4,29.5,86]
[1954,5,29.3,211]
[1954,6,27.5,810]
[1954,7,28.5,320]
[1954,8,28.5,433]
[1954,9,28.7,167]
[1954,10,26.1,218]
[1954,11,21.8,0]
[1954,12,19.2,10]
[1955,1,18,0]
[1955,2,20.3,0]
[1955,3,26.5,0]
[1955,4,27.6,54]
[1955,5,28.8,201]
[1955,6,28.6,254]
[1955,7,28,502]
[1955,8,28.1,247]
[1955,9,28.6,149]
[1955,10,27.7,71]
[1955,11,23.6,99]
[1955,12,18.399999999999999,0]
[1956,1,18.3,12]
[1956,2,20.100000000000001,5]
[1956,3,25.9,189]
[1956,4,28.7,135]
[1956,5,28.9,69]
[1956,6,27.7,433]
[1956,7,28.2,690]
[1956,8,28.5,489]
[1956,9,28.1,286]
[1956,10,27.5,121]
[1956,11,23.5,53]
[1956,12,19.5,13]
[1957,1,18.899999999999999,68]
[1957,2,19.899999999999999,69]
[1957,3,24.5,16]
[1957,4,29.3,117]
[1957,5,29.8,114]
[1957,6,28.6,487]
[1957,7,28.6,385]
[1957,8,29.1,125]
[1957,9,29.1,144]
[1957,10,26.9,29]
[1957,11,22.7,0]
[1957,12,19.8,0]
[1958,1,19.899999999999999,0]
[1958,2,21.3,95]
[1958,3,26.4,5]
[1958,4,29.8,64]
[1958,5,29.7,200]
[1958,6,29.9,161]
[1958,7,28.9,184]
[1958,8,28.7,267]
[1958,9,29,91]
[1958,10,27.9,191]
[1958,11,23.9,0]
[1958,12,20.100000000000001,0]
[1959,1,18.7,15]
[1959,2,20.399999999999999,4]
[1959,3,25.7,78]
[1959,4,29,78]
[1959,5,28.9,254]
[1959,6,28.8,368]
[1959,7,28.4,230]
[1959,8,28.3,413]
[1959,9,27.8,445]
[1959,10,26.2,568]
[1959,11,22.4,0]
[1959,12,19.3,0]
[1960,1,18,0]
[1960,2,22.9,0]
[1960,3,25.1,16]
[1960,4,30.8,19]
[1960,5,30,358]
[1960,6,29,304]
[1960,7,28.1,655]
[1960,8,29,189]
[1960,9,28.4,231]
[1960,10,27.2,38]
[1960,11,22.3,24]
[1960,12,19.5,0]
[1961,1,19,1]
[1961,2,19.399999999999999,12]
[1961,3,27.5,20]
[1961,4,29.3,205]
[1961,5,28.7,219]
[1961,6,28,856]
[1961,7,28.5,296]
[1961,8,28.5,288]
[1961,9,28.1,221]
[1961,10,27,52]
[1961,11,22,0]
[1961,12,17.7,0]
[1962,1,17.3,0]
[1962,2,21.6,15]
[1962,3,26.4,6]
[1962,4,29.5,166]
[1962,5,28.2,205]
[1962,6,28.5,191]
[1962,7,29.1,355]
[1962,8,28.4,273]
[1962,9,28.7,395]
[1962,10,26.7,180]
[1962,11,22.5,0]
[1962,12,18.899999999999999,0]
[1963,1,18,0]
[1963,2,22.9,0]
[1963,3,26,51]
[1963,4,27.8,98]
[1963,5,28.1,219]
[1963,6,28.5,621]
[1963,7,28.7,404]
[1963,8,28.8,186]
[1963,9,29,200]
[1963,10,27,182]
[1963,11,23,7]
[1963,12,19.7,3]
[1964,1,17.600000000000001,9]
[1964,2,21.9,42]
[1964,3,27.5,18]
[1964,4,28.2,296]
[1964,5,28.5,236]
[1964,6,28.6,354]
[1964,7,28,629]
[1964,8,28.7,155]
[1964,9,28.6,269]
[1964,10,27.5,283]
[1964,11,23.8,41]
[1964,12,20,0]
[1965,1,18.7,0]
[1965,2,21,28]
[1965,3,25.2,22]
[1965,4,28.8,55]
[1965,5,29.5,305]
[1965,6,28.2,442]
[1965,7,28.2,304]
[1965,8,27.8,480]
[1965,9,28.4,300]
[1965,10,27.1,50]
[1965,11,23.6,131]
[1965,12,20,0]
[1966,1]
[1966,2]
[1966,3]
[1966,4,30.4,34]
[1966,5,30.5,127]
[1966,6,28.4,270]
[1966,7,28.7,291]
[1966,8,28.6,306]
[1966,9,28.2,496]
[1966,10,26.2,261]
[1966,11,24.1,14]
[1966,12,19.399999999999999,15]
[1967,1,19,23]
[1967,2,22.3,12]
[1967,3,25,168]
[1967,4,27.8,185]
[1967,5,29,216]
[1967,6,29.1,241]
[1967,7,28.9,363]
[1967,8,28.5,504]
[1967,9,27.9,266]
[1967,10,26.8,74]
[1967,11,22.1,1]
[1967,12,19.899999999999999,0]
[1968,1,18.5,0]
[1968,2,20.399999999999999,5]
[1968,3,26.2,121]
[1968,4,28.3,27]
[1968,5,28.5,194]
[1968,6,27.6,590]
[1968,7,28.5,480]
[1968,8,28.7,212]
[1968,9,29.3,128]
[1968,10,27.1,69]
[1968,11,23.7,74]
[1968,12,19.600000000000001,0]
[1969,1,18.399999999999999,0]
[1969,2,21.7,1]
[1969,3,26.6,65]
[1969,4,28.8,86]
[1969,5,29.7,95]
[1969,6,28.7,249]
[1969,7,28.7,198]
[1969,8,27.8,540]
[1969,9,28.9,201]
[1969,10,27,103]
[1969,11,23.6,2]
[1969,12,20,0]
[1970,1,18.3,16]
[1970,2,22,8]
[1970,3,26.4,23]
[1970,4,29.2,45]
[1970,5,29.8,192]
[1970,6,29,276]
[1970,7,28.7,496]
[1970,8,28.5,280]
[1970,9,28.7,200]
[1970,10,26.8,427]
[1970,11,23.2,32]
[1970,12,19.2,0]
[1971,1,18.8,3]
[1971,2,20.9,28]
[1971,3,22.1,0]
[1971,4,27.2,0]
[1971,5,27.4,344]
[1971,6,28,339]
[1971,7,27.9,550]
[1971,8,27,540]
[1971,9,28,259]
[1971,10,27.3,118]
[1971,11,22.3,95]
[1971,12]
[1972,1,18.899999999999999,0]
[1972,2,19.3,11]
[1972,3,26.4,12]
[1972,4,28,248]
[1972,5,29.8,340]
[1972,6,28.8,353]
[1972,7,28.9,249]
[1972,8,27.8,380]
[1972,9,29,110]
[1972,10,27.5,105]
[1972,11,23.9,0]
[1972,12,20.100000000000001,0]
[1973,1,19.399999999999999,0]
[1973,2,23.1,21]
[1973,3,25.2,32]
[1973,4,29.7,131]
[1973,5,27.3,621]
[1973,6,28.5,414]
[1973,7]
[1973,8,28.5,238]
[1973,9,28.2,348]
[1973,10,27.3,128]
[1973,11,23.2,64]
[1973,12,19.2,86]
[1974,1]
[1974,2]
[1974,3]
[1974,4]
[1974,5]
[1974,6]
[1974,7]
[1974,8]
[1974,9]
[1974,10]
[1974,11]
[1974,12]
[1975,1,18.7,1]
[1975,2,21.8,29]
[1975,3,26.6,13]
[1975,4,29.3,98]
[1975,5,28.6,317]
[1975,6,29,235]
[1975,7,27.7,559]
[1975,8,28.5,307]
[1975,9,27.8,329]
[1975,10,27.4,232]
[1975,11,22.5,25]
[1975,12,18.5,0]
[1976,1,19.100000000000001,0]
[1976,2,22.5,7]
[1976,3,27.1,117]
[1976,4,29.6,34]
[1976,5,28.1,459]
[1976,6,27.8,627]
[1976,7,28.2,346]
[1976,8,27.9,361]
[1976,9,28.6,165]
[1976,10,27.2,114]
[1976,11,25.1,8]
[1976,12,19,0]
[1977,1,18.399999999999999,0]
[1977,2,21.5,66]
[1977,3,27.6,71]
[1977,4,26.7,255]
[1977,5,27,381]
[1977,6,27.8,252]
[1977,7,28.7,306]
[1977,8,29,92]
[1977,9,29.1,131]
[1977,10,26.6,273]
[1977,11,24.4,10]
[1977,12,19.399999999999999,24]
[1978,1,17.5,0]
[1978,2,20.7,20]
[1978,3,25.1,18]
[1978,4,27.4,194]
[1978,5,27.6,454]
[1978,6,28.4,529]
[1978,7,28.5,320]
[1978,8,29.1,426]
[1978,9,28.5,192]
[1978,10,28.1,98]
[1978,11,24.6,0]
[1978,12,19.8,0]
[1979,1,19.600000000000001,3]
[1979,2,20.6,13]
[1979,3,26.3,6]
[1979,4,29.4,17]
[1979,5,30.9,114]
[1979,6,29.1,258]
[1979,7,29,267]
[1979,8,29,525]
[1979,9,28.7,382]
[1979,10,27.6,146]
[1979,11,25.5,55]
[1979,12,19.8,51]
[1980,1,18.3,3]
[1980,2,21.6,32]
[1980,3,26.3,54]
[1980,4,30.3,147]
[1980,5,27.3,414]
[1980,6,28.9,323]
[1980,7,28.5,380]
[1980,8,28.9,269]
[1980,9,28.8,296]
[1980,10,26.9,300]
[1980,11,23.6,0]
[1980,12,20.8,0]
[1981,1,19.2,10]
[1981,2,21,42]
[1981,3,25.1,109]
[1981,4,26.3,274]
[1981,5,27.7,272]
[1981,6,29.6,168]
[1981,7,28.3,356]
[1981,8,29.4,188]
[1981,9,28.9,320]
[1981,10,27.9,82]
[1981,11,24,9]
[1981,12,19.600000000000001,35]
[1982,1,19.2,0]
[1982,2,21.1,15]
[1982,3,24.9,81]
[1982,4,27.5,104]
[1982,5,29.8,154]
[1982,6,28.7,514]
[1982,7,29.4,136]
[1982,8,28.5,346]
[1982,9,29,258]
[1982,10,27.7,146]
[1982,11,23,51]
[1982,12,19.7,0]
[1983,1,18.5,14]
[1983,2,20.6,61]
[1983,3,26,138]
[1983,4,27.6,318]
[1983,5,28.3,348]
[1983,6,29.5,300]
[1983,7,29.4,179]
[1983,8,28.7,437]
[1983,9,28.7,322]
[1983,10,27.2,253]
[1983,11,24.8,0]
[1983,12,20,18]
[1984,1,19,13]
[1984,2,21.3,1]
[1984,3,27.7,5]
[1984,4,29.5,124]
[1984,5,27.9,707]
[1984,6,28.3,637]
[1984,7,28.5,694]
[1984,8,28.7,311]
[1984,9,28.4,478]
[1984,10,28.7,58]
[1984,11,24.2,0]
[1984,12,20.7,0]
[1985,1,20.399999999999999,8]
[1985,2,22.6,1]
[1985,3,28.3,195]
[1985,4,29.1,176]
[1985,5,28.2,300]
[1985,6,28.9,399]
[1985,7,28.3,262]
[1985,8,29.2,317]
[1985,9,28.8,306]
[1985,10,28.2,79]
[1985,11,24.5,0]
[1985,12,21.7,10]
[1986,1,20.2,22]
[1986,2,22.8,0]
[1986,3,27.9,23]
[1986,4,28.1,247]
[1986,5,28.8,191]
[1986,6,30,304]
[1986,7,29,443]
[1986,8,29.8,171]
[1986,9,28.2,687]
[1986,10,27.3,237]
[1986,11,24.6,172]
[1986,12,21.2,3]
[1987,1,19.899999999999999,4]
[1987,2,23.4,0]
[1987,3,26.9,33]
[1987,4,28.7,230]
[1987,5,29.7,109]
[1987,6,30.5,316]
[1987,7,28.9,526]
[1987,8,29.2,462]
[1987,9,29.4,363]
[1987,10,28.3,104]
[1987,11,25.2,7]
[1987,12,21.2,33]
[1988,1,20.399999999999999,0]
[1988,2,23.2,44]
[1988,3,26.6,74]
[1988,4,29.8,282]
[1988,5,29,513]
[1988,6,28.8,580]
[1988,7,29.4,255]
[1988,8,29.4,169]
[1988,9,29.9,196]
[1988,10,28.3,213]
[1988,11,25.1,153]
[1988,12,21.7,3]
[1989,1,18.3,0]
[1989,2,22.1,32]
[1989,3,27,0]
[1989,4,30.6,85]
[1989,5,30.2,228]
[1989,6,29.6,319]
[1989,7,29.2,347]
[1989,8,29.9,59]
[1989,9,29,305]
[1989,10,28,240]
[1989,11,24.5,0]
[1989,12,20,12]
[1990,1,19.899999999999999,0]
[1990,2,22.4,36]
[1990,3,24.3,151]
[1990,4,27.3,154]
[1990,5,28.8,202]
[1990,6,29.5,229]
[1990,7,28.6,567]
[1990,8,29.5,227]
[1990,9,29.2,247]
[1990,10,26.9,181]
[1990,11,25.7,103]
[1990,12,21.3,6]
[1991,1,19,27]
[1991,2,23.2,8]
[1991,3,27.2,46]
[1991,4,29,53]
[1991,5,27.5,529]
[1991,6,28.7,320]
[1991,7,29.4,318]
[1991,8,29.1,345]
[1991,9,28.2,692]
[1991,10,27.7,392]
[1991,11,23.7,14]
[1991,12,19.899999999999999,106]
[1992,1,18.7,1]
[1992,2,20.8,47]
[1992,3,27.3,0]
[1992,4,30.5,25]
[1992,5,28.8,153]
[1992,6,30.1,132]
[1992,7,28.7,386]
[1992,8,29.1,182]
[1992,9,29.1,158]
[1992,10,27.8,83]
[1992,11,24,2]
[1992,12,19.2,0]
[1993,1,18.3,0]
[1993,2,22.7,52]
[1993,3,24.8,88]
[1993,4,27.9,113]
[1993,5,27.6,556]
[1993,6,28.7,504]
[1993,7,28.8,421]
[1993,8,28.7,432]
[1993,9,28.6,417]
[1993,10,27.6,217]
[1993,11,24.4,19]
[1993,12,20.399999999999999,0]
[1994,1,19.600000000000001,13]
[1994,2,20.3,54]
[1994,3,26.7,115]
[1994,4,28,201]
[1994,5,29.5,254]
[1994,6,29.2,266]
[1994,7,29.4,153]
[1994,8,29.2,246]
[1994,9,29.3,169]
[1994,10,28,55]
[1994,11,24.3,14]
[1994,12,20.100000000000001,0]
[1995,1,18.3,8]
[1995,2,21.8,31]
[1995,3,26.6,0]
[1995,4,30.5,88]
[1995,5,30.6,264]
[1995,6,29.8,237]
[1995,7,29,354]
[1995,8,29.5,360]
[1995,9,29.4,205]
[1995,10,28.4,91]
[1995,11,24.8,112]
[1995,12,20.100000000000001,1]
[1996,1,19,0]
[1996,2,22.5,21]
[1996,3,28.3,54]
[1996,4,29.4,199]
[1996,5,30.2,208]
[1996,6,29,343]
[1996,7,29.7,257]
[1996,8,29,361]
[1996,9,30,244]
[1996,10,27.6,357]
[1996,11,24.3,0]
[1996,12,20.6,0]
[1997,1,18.3,2]
[1997,2,21.1,7]
[1997,3,27.1,82]
[1997,4,26.1,133]
[1997,5,29.1,151]
[1997,6,29.6,249]
[1997,7,29,549]
[1997,8,29.7,230]
[1997,9,28.5,440]
[1997,10,27.2,30]
[1997,11,24.7,1]
[1997,12,19.7,22]
[1998,1,17.8,49]
[1998,2,22.2,4]
[1998,3,24.5,83]
[1998,4,27.8,178]
[1998,5,29.3,405]
[1998,6,31.2,89]
[1998,7,29.1,521]
[1998,8,29.3,552]
[1998,9,29.4,246]
[1998,10,29.2,100]
[1998,11,25.7,83]
[1998,12,21.4,0]
[1999,1,19.8,0]
[1999,2,23.8,0]
[1999,3,27.9,0]
[1999,4,31,21]
[1999,5,29,428]
[1999,6,29.5,348]
[1999,7,28.9,553]
[1999,8,29,282]
[1999,9,28.8,361]
[1999,10,28.1,368]
[1999,11,24.7,13]
[1999,12,21,0]
[2000,1,19.3,13]
[2000,2,20.8,44]
[2000,3,25.8,172]
[2000,4,28.1,189]
[2000,5,28.2,471]
[2000,6,29,165]
[2000,7,29.1,197]
[2000,8,29.2,359]
[2000,9,28.9,216]
[2000,10,27.8,278]
[2000,11,24.9,0]
[2000,12,20.7,0]
[2001,1,18.7,0]
[2001,2,22.8,1]
[2001,3,26.7,33]
[2001,4,29.5,46]
[2001,5,28.1,402]
[2001,6,28.3,386]
[2001,7,28.8,202]
[2001,8,28.8,205]
[2001,9,28.1,209]
[2001,10,27.2,177]
[2001,11,24.1,18]
[2001,12,20.399999999999999,0]
[2002,1,20,22]
[2002,2,22.6,4]
[2002,3,26.1,51]
[2002,4,27.3,111]
[2002,5,28,272]
[2002,6,28.8,373]
[2002,7,28.4,446]
[2002,8,28.4,272]
[2002,9,28.9,156]
[2002,10,27.2,52]
[2002,11,24.4,36]
[2002,12,21,0]
[2003,1,16.7,0]
[2003,2,22.5,25]
[2003,3,24.7,96]
[2003,4,29,123]
[2003,5,29.2,140]
[2003,6,28.6,473]
[2003,7,29.4,191]
[2003,8,29.5,202]
[2003,9,28.3,264]
[2003,10,28.1,134]
[2003,11,24.6,0]
[2003,12,21.2,45]
[2004,1,18.8,0]
[2004,2,22.1,0]
[2004,3,27.6,9]
[2004,4,28.2,167]
[2004,5,30.7,162]
[2004,6,28.6,476]
[2004,7,28.5,295]
[2004,8,29.4,191]
[2004,9,28,839]
[2004,10,27.1,208]
[2004,11,24.1,0]
[2004,12,21.6,0]
[2005,1,19.399999999999999,1]
[2005,2,23.7,3]
[2005,3,27.3,155]
[2005,4,29.3,91]
[2005,5,28.7,291]
[2005,6,30.1,259]
[2005,7,28.6,542]
[2005,8,29.4,361]
[2005,9,29.4,514]
[2005,10,27.5,417]
[2005,11,24.4,3]
[2005,12,21.4,0]
[2006,1,19.399999999999999,0]
[2006,2,25.3,0]
[2006,3,27.6,0]
[2006,4,28.8,181]
[2006,5,29.4,185]
[2006,6,29.3,326]
[2006,7,29.5,331]
[2006,8,29.5,167]
[2006,9,28.9,663]
[2006,10,28.5,61]
[2006,11,24.8,5]
[2006,12,21.4,0]
[2007,1,18.5,0]
[2007,2,21.9,30]
[2007,3,25.6,11]
[2007,4,28.7,163]
[2007,5,30.3,185]
[2007,6,29,628]
[2007,7,28.6,753]
[2007,8,29.5,505]
[2007,9,29.3,179]
[2007,10,27.7,320]
[2007,11,24.5,111]
[2007,12,20.399999999999999,0]
[2008,1,19.5,23]
[2008,2,20.6,56]
[2008,3,26.8,45]
[2008,4,29.5,91]
[2008,5,29.8,205]
[2008,6,28.8,577]
[2008,7,29.1,563]
[2008,8,29.3,319]
[2008,9,29.4,279]
[2008,10,27.6,227]
[2008,11,24.4,0]
[2008,12,21.2,0]
[2009,1,20.399999999999999,1]
[2009,2,23.5,1]
[2009,3,27.4,43]
[2009,4,30.7,14]
[2009,5,29.9,168]
[2009,6,30.6,170]
[2009,7,29.5,676]
[2009,8,29.4,482]
[2009,9,29.4,298]
[2009,10,28.2,74]
[2009,11,25.2,4]
[2009,12,20.7,0]
[2010,1,18.3,0]
[2010,2,22.6,48]
[2010,3,28.7,22]
[2010,4,31,37]
[2010,5,30.1,177]
[2010,6,29.9,308]
[2010,7,30.2,167]
[2010,8,30.1,340]
[2010,9,29.6,169]
[2010,10,28.7,174]
[2010,11,25.5,0]
[2010,12,20.8,81]
[2011,1,17.8,0]
[2011,2,22.8,0]
[2011,3,26.8,20]
[2011,4,28.3,123]
[2011,5,29,235]
[2011,6,29.5,314]
[2011,7,29.5,356]
[2011,8,28.8,409]
[2011,9,29.4,207]
[2011,10,28.7,112]
[2011,11,24.4,0]
[2011,12,20,0]
[2012,1,19.3,10]
[2012,2,22.3,1]
[2012,3,27.6,37]
[2012,4,28.6,269]
[2012,5,30.2,137]
[2012,6,30.1,175]
[2012,7,29.6,226]
[2012,8,29.6,282]
[2012,9,29.8,81]
[2012,10,28.3,38]
[2012,11,23.9,68]
[2012,12,19.3,5]
[2013,1,18.2,0]
[2013,2,23.2,8]
[2013,3,27.7,26]
[2013,4,29.3,32]
[2013,5,28.3,378]
[2013,6,30.4,325]
[2013,7,29.9,302]
[2013,8,29.1,212]
[2013,9,29.5,172]
[2013,10,27.9,131]
[2013,11,24.4,0]
[2013,12,20.9,4]
[2014,1,19,0]
[2014,2,21.5,12]
[2014,3,26.5,10]
[2014,4,30.8,80]
[2014,5,30.9,147]
[2014,6,29.9,342]
[2014,7,29.9,212]
[2014,8,29.2,391]
[2014,9,29.7,156]
[2014,10,28.1,49]
[2014,11,25,0]
[2014,12,19.8,0]
[2015,1,19.7,3]
[2015,2,22.7,17]
[2015,3,26.4,4]
[2015,4,28.1,166]
[2015,5,29.8,185]
[2015,6,29.7,375]
[2015,7,28.9,623]
[2015,8,29.8,395]
[2015,9,29.5,346]
[2015,10,28.3,51]
[2015,11,25.1,0]
[2015,12,21.1,1]

{"sheet":"Precip.","index":3,"n_rows":64,"n_cols":20,"rows_kept":64,"cut":false,"hidden":false,"merged":[]}
["Year","Month","Precip.","Index","Event"]
[1953,8,326,0.6,1,null,"Start Year",1953,null,"Options of tertile thresholds",null,null,"Dry","Normal","Wet","S1-Value","S2-Value"]
[1954,8,433,-0.8,-1,null,"End Year",2015,null,{"$f":"PERCENTILE(OFFSET($C$2,0,0,$H$8,1), 1/3)","v":253.66666666666663},{"$f":"PERCENTILE(OFFSET($C$2,0,0,$H$8,1), 2/3)","v":361},null,{"$f":"COUNTIF(OFFSET($C$2,0,0,$H$8,1),\"<=\"&$J3)","v":21},{"$f":"COUNTIF(OFFSET($C$2,0,0,$H$8,1),\"<=\"&$K3)-M3","v":22},{"$f":"COUNTIF(OFFSET($C$2,0,0,$H$8,1),\">\"&$K3)","v":19},{"$f":"(1/3-$M3/$H$9)^2+(1/3-$N3/$H$9)^2+(1/3-$O3/$H$9)^2","v":1.2140131807145337E-3},{"$f":"ABS($J$3-J3)+ABS($K$3-K3)","v":0}]
[1955,8,247,-0.9,-1,null,"Calendar Month",8,null,{"$f":"IF(J3=0,J3,J3-1)","v":252.66666666666663},{"$f":"K3","v":361},null,{"$f":"COUNTIF(OFFSET($C$2,0,0,$H$8,1),\"<=\"&$J4)","v":21},{"$f":"COUNTIF(OFFSET($C$2,0,0,$H$8,1),\"<=\"&$K4)-M4","v":22},{"$f":"COUNTIF(OFFSET($C$2,0,0,$H$8,1),\">\"&$K4)","v":19},{"$f":"(1/3-$M4/$H$9)^2+(1/3-$N4/$H$9)^2+(1/3-$O4/$H$9)^2","v":1.2140131807145337E-3},{"$f":"ABS($J$3-J4)+ABS($K$3-K4)","v":1}]
[1956,8,489,-0.3,0,null,null,null,null,{"$f":"J3","v":253.66666666666663},{"$f":"IF(K3=0,K3,K3-1)","v":360},null,{"$f":"COUNTIF(OFFSET($C$2,0,0,$H$8,1),\"<=\"&$J5)","v":21},{"$f":"COUNTIF(OFFSET($C$2,0,0,$H$8,1),\"<=\"&$K5)-M5","v":19},{"$f":"COUNTIF(OFFSET($C$2,0,0,$H$8,1),\">\"&$K5)","v":22},{"$f":"(1/3-$M5/$H$9)^2+(1/3-$N5/$H$9)^2+(1/3-$O5/$H$9)^2","v":1.2140131807145337E-3},{"$f":"ABS($J$3-J5)+ABS($K$3-K5)","v":1}]
[1957,8,125,1.2,1,null,null,null,null,{"$f":"IF(J3=0,J3,J3-1)","v":252.66666666666663},{"$f":"IF(K3=0,K3,K3-1)","v":360},null,{"$f":"COUNTIF(OFFSET($C$2,0,0,$H$8,1),\"<=\"&$J6)","v":21},{"$f":"COUNTIF(OFFSET($C$2,0,0,$H$8,1),\"<=\"&$K6)-M6","v":19},{"$f":"COUNTIF(OFFSET($C$2,0,0,$H$8,1),\">\"&$K6)","v":22},{"$f":"(1/3-$M6/$H$9)^2+(1/3-$N6/$H$9)^2+(1/3-$O6/$H$9)^2","v":1.2140131807145337E-3},{"$f":"ABS($J$3-J6)+ABS($K$3-K6)","v":2}]
[1958,8,267,0.2,0]
[1959,8,413,-0.1,0,null,"Total Year",{"$f":"H3-H2+1","v":63}]
[1960,8,189,0,0,null,"Effective Year",{"$f":"COUNTIF(OFFSET($C$2,0,0,$H$8,1),\"<>\")","v":62},null,"Tertile thresholds",null,"Probability","Dry","Normal","Wet"]
[1961,8,288,-0.4,0,null,null,null,null,253.66666666666663,361,null,{"$f":"M3/SUM($M$3:$O$3)","v":0.33870967741935482},{"$f":"N3/SUM($M$3:$O$3)","v":0.35483870967741937},{"$f":"O3/SUM($M$3:$O$3)","v":0.30645161290322581}]
[1962,8,273,-0.2,0,null,"Sampling bias rate(%)",{"$f":"ABS($N$13-$N$15)/$N$14*100","v":3.225806451612903}]
[1963,8,186,0.9,1,null,null,null,null,"Count","Dry","Normal","Wet","Sum."]
[1964,8,155,-0.8,-1,null,null,null,null,{"$f":"'Event index'!$F$4","v":"El Nino"},{"$f":"COUNTIFS(OFFSET($C$2,0,0,$H$8,1),\"<=\"&$J$10,OFFSET($E$2,0,0,$H$8,1),1)","v":3},{"$f":"COUNTIFS(OFFSET($C$2,0,0,$H$8,1),\">\"&$J$10,OFFSET($C$2,0,0,$H$8,1),\"<=\"&$K$10,OFFSET($E$2,0,0,$H$8,1),1)","v":5},{"$f":"COUNTIFS(OFFSET($C$2,0,0,$H$8,1),\">\"&$K$10,OFFSET($E$2,0,0,$H$8,1),1)","v":8},{"$f":"SUM(K13:M13)","v":16}]
[1965,8,480,1.3,1,null,null,null,null,{"$f":"'Event index'!$D$4","v":"Neutral"},{"$f":"COUNTIFS(OFFSET($C$2,0,0,$H$8,1),\"<=\"&$J$10,OFFSET($E$2,0,0,$H$8,1),0)","v":14},{"$f":"COUNTIFS(OFFSET($C$2,0,0,$H$8,1),\">\"&$J$10,OFFSET($C$2,0,0,$H$8,1),\"<=\"&$K$10,OFFSET($E$2,0,0,$H$8,1),0)","v":10},{"$f":"COUNTIFS(OFFSET($C$2,0,0,$H$8,1),\">\"&$K$10,OFFSET($E$2,0,0,$H$8,1),0)","v":7},{"$f":"SUM(K14:M14)","v":31}]
[1966,8,306,-0.1,0,null,null,null,null,{"$f":"'Event index'!$B$4","v":"La Nina"},{"$f":"COUNTIFS(OFFSET($C$2,0,0,$H$8,1),\"<=\"&$J$10,OFFSET($E$2,0,0,$H$8,1),-1)","v":4},{"$f":"COUNTIFS(OFFSET($C$2,0,0,$H$8,1),\">\"&$J$10,OFFSET($C$2,0,0,$H$8,1),\"<=\"&$K$10,OFFSET($E$2,0,0,$H$8,1),-1)","v":7},{"$f":"COUNTIFS(OFFSET($C$2,0,0,$H$8,1),\">\"&$K$10,OFFSET($E$2,0,0,$H$8,1),-1)","v":4},{"$f":"SUM(K15:M15)","v":15}]
[1967,8,504,-0.4,0]
[1968,8,212,0.4,0,null,null,null,null,"Percentage","Dry","Normal","Wet","Sum."]
[1969,8,540,0.7,1,null,null,null,null,{"$f":"'Event index'!$F$4","v":"El Nino"},{"$f":"INT(K13/$N13*100+0.5)","v":19},31,50,{"$f":"SUM(K18:M18)","v":100}]
[1970,8,280,-1,-1,null,null,null,null,{"$f":"'Event index'!$D$4","v":"Neutral"},45,32,23,{"$f":"SUM(K19:M19)","v":100}]
[1971,8,540,-0.6,-1,null,null,null,null,{"$f":"'Event index'!$B$4","v":"La Nina"},27,47,27,{"$f":"SUM(K20:M20)","v":101}]
[1972,8,380,1.8,1]
[1973,8,238,-0.9,-1,null,null,null,null,"Binomial test: (p-value)",null,null,null,null,null,null,"Correlation","r","t-value","p-value"]
[1974,8,null,-0.1,0,null,null,null,null,null,"Dry","Normal","Wet","Not Dry","Not Wet",null,null,{"$f":"CORREL(OFFSET($D$2,0,0,$H$8,1), OFFSET($C$2,0,0,$H$8,1))","v":2.8096490950087923E-2},{"$f":"R23*SQRT($H$9-2)/SQRT(1-R23*R23)","v":0.21772043568926985},{"$f":"TDIST(ABS(S23),$H$9-2,2)","v":0.82838568192539408}]
[1975,8,307,-0.8,-1,null,null,null,null,{"$f":"'Event index'!$F$4","v":"El Nino"},{"$f":"1-_xlfn.BINOM.DIST(K13-1,$N13,$M$10,TRUE)","v":0.94559773212484222},{"$f":"1-_xlfn.BINOM.DIST(L13-1,$N13,$N$10,TRUE)","v":0.72448422832831749},{"$f":"1-_xlfn.BINOM.DIST(M13-1,$N13,$O$10,TRUE)","v":8.3050524713277563E-2},{"$f":"1-_xlfn.BINOM.DIST(L13+M13-1,N13,$N$10+$O$10,TRUE)","v":0.15504189443744454},{"$f":"1-_xlfn.BINOM.DIST(K13+L13-1,N13,$M$10+$N$10,TRUE)","v":0.97053999480271058}]
[1976,8,361,1.1000000000000001,1,null,null,null,null,{"$f":"'Event index'!$D$4","v":"Neutral"},{"$f":"1-_xlfn.BINOM.DIST(K14-1,$N14,$M$10,TRUE)","v":0.1283534841800551},{"$f":"1-_xlfn.BINOM.DIST(L14-1,$N14,$N$10,TRUE)","v":0.70855788831270683},{"$f":"1-_xlfn.BINOM.DIST(M14-1,$N14,$O$10,TRUE)","v":0.88118740833028331},{"$f":"1-_xlfn.BINOM.DIST(L14+M14-1,N14,$N$10+$O$10,TRUE)","v":0.93299420627937113},{"$f":"1-_xlfn.BINOM.DIST(K14+L14-1,N14,$M$10+$N$10,TRUE)","v":0.22120348409928958}]
[1977,8,92,0.2,0,null,null,null,null,{"$f":"'Event index'!$B$4","v":"La Nina"},{"$f":"1-_xlfn.BINOM.DIST(K15-1,$N15,$M$10,TRUE)","v":0.80307606584989655},{"$f":"1-_xlfn.BINOM.DIST(L15-1,$N15,$N$10,TRUE)","v":0.2580716941949911},{"$f":"1-_xlfn.BINOM.DIST(M15-1,$N15,$O$10,TRUE)","v":0.72158887911351743},{"$f":"1-_xlfn.BINOM.DIST(L15+M15-1,N15,$N$10+$O$10,TRUE)","v":0.38692538260265352},{"$f":"1-_xlfn.BINOM.DIST(K15+L15-1,N15,$M$10+$N$10,TRUE)","v":0.49340432099381981}]
[1978,8,426,-0.5,0]
[1979,8,525,0.4,0]
[1980,8,269,0.1,0]
[1981,8,188,0,0]
[1982,8,346,1.5,1]
[1983,8,437,0.9,1]
[1984,8,311,-0.6,-1]
[1985,8,317,-0.5,-1]
[1986,8,171,0.4,0]
[1987,8,462,1.5,1]
[1988,8,169,-1.5,-1]
[1989,8,59,-0.2,0]
[1990,8,227,0.3,0]
[1991,8,345,0.9,1]
[1992,8,182,0.1,0]
[1993,8,432,0.4,0]
[1994,8,246,0.1,0]
[1995,8,360,-0.5,-1]
[1996,8,361,-0.3,0]
[1997,8,230,2.7,1]
[1998,8,552,-0.5,-1]
[1999,8,282,-0.9,-1]
[2000,8,359,-0.4,0]
[2001,8,205,-0.2,0]
[2002,8,272,0.7,1]
[2003,8,202,0.1,0]
[2004,8,191,0.2,0]
[2005,8,361,0.1,0]
[2006,8,167,0.4,0]
[2007,8,505,-1.1000000000000001,-1]
[2008,8,319,0.2,0]
[2009,8,482,0.8,1]
[2010,8,340,-1.1000000000000001,-1]
[2011,8,409,-0.4,0]
[2012,8,282,0.5,0]
[2013,8,212,-0.5,0]
[2014,8,391,0.5,1]
[2015,8,395,null,1]

{"sheet":"Temp. (raw)","index":4,"n_rows":58,"n_cols":20,"rows_kept":58,"cut":false,"hidden":false,"merged":[]}
["Year","Month","Mean Temp. (raw)","Index","Event"]
[1958,8,25.8,0.2,0,null,"Start Year",1958,null,"Options of tertile thresholds",null,null,"Cold","Normal","Warm","S1-Value","S2-Value"]
[1959,8,26.7,-0.1,0,null,"End Year",2014,null,{"$f":"PERCENTILE(OFFSET($C$2,0,0,COUNTA($C:$C)-1,1), 1/3)","v":26.8},{"$f":"PERCENTILE(OFFSET($C$2,0,0,COUNTA($C:$C)-1,1), 2/3)","v":27.566666666666666},null,{"$f":"COUNTIF(OFFSET($C$2,0,0,$H$8,1),\"<=\"&$J3)","v":21},{"$f":"COUNTIF(OFFSET($C$2,0,0,$H$8,1),\"<=\"&$K3)-M3","v":17},{"$f":"COUNTIF(OFFSET($C$2,0,0,$H$8,1),\">\"&$K3)","v":19},{"$f":"(1/3-$M3/$H$9)^2+(1/3-$N3/$H$9)^2+(1/3-$O3/$H$9)^2","v":2.4622960911049553E-3},{"$f":"ABS($J$3-J3)+ABS($K$3-K3)","v":0}]
[1960,8,26.4,0,0,null,"Calendar Month",8,null,{"$f":"J3-0.1","v":26.7},{"$f":"K3","v":27.566666666666666},null,{"$f":"COUNTIF(OFFSET($C$2,0,0,$H$8,1),\"<=\"&$J4)","v":18},{"$f":"COUNTIF(OFFSET($C$2,0,0,$H$8,1),\"<=\"&$K4)-M4","v":20},{"$f":"COUNTIF(OFFSET($C$2,0,0,$H$8,1),\">\"&$K4)","v":19},{"$f":"(1/3-$M4/$H$9)^2+(1/3-$N4/$H$9)^2+(1/3-$O4/$H$9)^2","v":6.1557402277623882E-4},{"$f":"ABS($J$3-J4)+ABS($K$3-K4)","v":0.10000000000000142}]
[1961,8,26.8,-0.4,0,null,null,null,null,{"$f":"J3","v":26.8},{"$f":"K3-0.1","v":27.466666666666665},null,{"$f":"COUNTIF(OFFSET($C$2,0,0,$H$8,1),\"<=\"&$J5)","v":21},{"$f":"COUNTIF(OFFSET($C$2,0,0,$H$8,1),\"<=\"&$K5)-M5","v":14},{"$f":"COUNTIF(OFFSET($C$2,0,0,$H$8,1),\">\"&$K5)","v":22},{"$f":"(1/3-$M5/$H$9)^2+(1/3-$N5/$H$9)^2+(1/3-$O5/$H$9)^2","v":1.1695906432748537E-2},{"$f":"ABS($J$3-J5)+ABS($K$3-K5)","v":0.10000000000000142}]
[1962,8,28.1,-0.2,0,null,null,null,null,{"$f":"J3-0.1","v":26.7},{"$f":"K3-0.1","v":27.466666666666665},null,{"$f":"COUNTIF(OFFSET($C$2,0,0,$H$8,1),\"<=\"&$J6)","v":18},{"$f":"COUNTIF(OFFSET($C$2,0,0,$H$8,1),\"<=\"&$K6)-M6","v":17},{"$f":"COUNTIF(OFFSET($C$2,0,0,$H$8,1),\">\"&$K6)","v":22},{"$f":"(1/3-$M6/$H$9)^2+(1/3-$N6/$H$9)^2+(1/3-$O6/$H$9)^2","v":4.3090181594336715E-3},{"$f":"ABS($J$3-J6)+ABS($K$3-K6)","v":0.20000000000000284}]
[1963,8,26.6,0.9,1]
[1964,8,27.8,-0.8,-1,null,"Total Year",{"$f":"H3-H2+1","v":57}]
[1965,8,26.7,1.3,1,null,"Effective Year",{"$f":"COUNT(OFFSET($C$2,0,0,$H$8,1))","v":57},null,"Tertile thresholds",null,"Probability","Cold","Normal","Warm"]
[1966,8,26.9,-0.1,0,null,null,null,null,26.7,27.566666666666666,null,{"$f":"M3/SUM($M$3:$O$3)","v":0.36842105263157893},{"$f":"N3/SUM($M$3:$O$3)","v":0.2982456140350877},{"$f":"O3/SUM($M$3:$O$3)","v":0.33333333333333331}]
[1967,8,28,-0.4,0,null,"Sampling bias rate(%)",{"$f":"ABS($N$13-$N$15)/$N$14*100","v":0}]
[1968,8,26.6,0.4,0,null,null,null,null,"Count","Cold","Normal","Warm","Sum."]
[1969,8,27.2,0.7,1,null,null,null,null,{"$f":"'Event index'!$F$4","v":"El Nino"},{"$f":"COUNTIFS(OFFSET($C$2,0,0,$H$8,1),\"<=\"&$J$10,OFFSET($E$2,0,0,$H$8,1),1)","v":6},{"$f":"COUNTIFS(OFFSET($C$2,0,0,$H$8,1),\">\"&$J$10,OFFSET($C$2,0,0,$H$8,1),\"<=\"&$K$10,OFFSET($E$2,0,0,$H$8,1),1)","v":5},{"$f":"COUNTIFS(OFFSET($C$2,0,0,$H$8,1),\">\"&$K$10,OFFSET($E$2,0,0,$H$8,1),1)","v":2},{"$f":"SUM(K13:M13)","v":13}]
[1970,8,27.4,-1,-1,null,null,null,null,{"$f":"'Event index'!$D$4","v":"Neutral"},{"$f":"COUNTIFS(OFFSET($C$2,0,0,$H$8,1),\"<=\"&$J$10,OFFSET($E$2,0,0,$H$8,1),0)","v":11},{"$f":"COUNTIFS(OFFSET($C$2,0,0,$H$8,1),\">\"&$J$10,OFFSET($C$2,0,0,$H$8,1),\"<=\"&$K$10,OFFSET($E$2,0,0,$H$8,1),0)","v":11},{"$f":"COUNTIFS(OFFSET($C$2,0,0,$H$8,1),\">\"&$K$10,OFFSET($E$2,0,0,$H$8,1),0)","v":9},{"$f":"SUM(K14:M14)","v":31}]
[1971,8,26.7,-0.6,-1,null,null,null,null,{"$f":"'Event index'!$B$4","v":"La Nina"},{"$f":"COUNTIFS(OFFSET($C$2,0,0,$H$8,1),\"<=\"&$J$10,OFFSET($E$2,0,0,COUNTA($E:$E)-1,1),-1)","v":1},{"$f":"COUNTIFS(OFFSET($C$2,0,0,$H$8,1),\">\"&$J$10,OFFSET($C$2,0,0,$H$8,1),\"<=\"&$K$10,OFFSET($E$2,0,0,$H$8,1),-1)","v":4},{"$f":"COUNTIFS(OFFSET($C$2,0,0,$H$8,1),\">\"&$K$10,OFFSET($E$2,0,0,$H$8,1),-1)","v":8},{"$f":"SUM(K15:M15)","v":13}]
[1972,8,26.6,1.8,1]
[1973,8,28.5,-0.9,-1,null,null,null,null,"Percentage","Cold","Normal","Warm","Sum."]
[1974,8,27.1,-0.1,0,null,null,null,null,{"$f":"'Event index'!$F$4","v":"El Nino"},{"$f":"INT(K13/$N13*100+0.5)","v":46},38,15,{"$f":"SUM(K18:M18)","v":99}]
[1975,8,27.3,-0.8,-1,null,null,null,null,{"$f":"'Event index'!$D$4","v":"Neutral"},35,35,29,{"$f":"SUM(K19:M19)","v":99}]
[1976,8,25.1,1.1000000000000001,1,null,null,null,null,{"$f":"'Event index'!$B$4","v":"La Nina"},8,31,62,{"$f":"SUM(K20:M20)","v":101}]
[1977,8,25,0.2,0]
[1978,8,28.9,-0.5,0,null,null,null,null,"Binomial test: (p-value)",null,null,null,null,null,null,"Correlation","r","t-value","p-value"]
[1979,8,27.4,0.4,0,null,null,null,null,null,"Cold","Normal","Warm","Not Cold","Not Warm",null,null,{"$f":"CORREL(OFFSET($D$2,0,0,$H$8,1), OFFSET($C$2,0,0,$H$8,1))","v":-0.34831722997316861},{"$f":"R23*SQRT($H$9-2)/SQRT(1-R23*R23)","v":-2.7557647533216243},{"$f":"TDIST(ABS(S23),$H$9-2,2)","v":7.92640598686635E-3}]
[1980,8,23.4,0.1,0,null,null,null,null,{"$f":"'Event index'!$F$4","v":"El Nino"},{"$f":"1-_xlfn.BINOM.DIST(K13-1,$N13,$M$10,TRUE)","v":0.33439337948461267},{"$f":"1-_xlfn.BINOM.DIST(L13-1,$N13,$N$10,TRUE)","v":0.34042379464225014},{"$f":"1-_xlfn.BINOM.DIST(M13-1,$N13,$O$10,TRUE)","v":0.96146326685370531},{"$f":"1-_xlfn.BINOM.DIST(L13+M13-1,N13,$N$10+$O$10,TRUE)","v":0.837626022504528},{"$f":"1-_xlfn.BINOM.DIST(K13+L13-1,N13,$M$10+$N$10,TRUE)","v":0.1387322393266609}]
[1981,8,26.2,0,0,null,null,null,null,{"$f":"'Event index'!$D$4","v":"Neutral"},{"$f":"1-_xlfn.BINOM.DIST(K14-1,$N14,$M$10,TRUE)","v":0.62828999664575047},{"$f":"1-_xlfn.BINOM.DIST(L14-1,$N14,$N$10,TRUE)","v":0.30443182169177818},{"$f":"1-_xlfn.BINOM.DIST(M14-1,$N14,$O$10,TRUE)","v":0.75372866647298498},{"$f":"1-_xlfn.BINOM.DIST(L14+M14-1,N14,$N$10+$O$10,TRUE)","v":0.51829285471201392},{"$f":"1-_xlfn.BINOM.DIST(K14+L14-1,N14,$M$10+$N$10,TRUE)","v":0.38316808789836299}]
[1982,8,27.1,1.5,1,null,null,null,null,{"$f":"'Event index'!$B$4","v":"La Nina"},{"$f":"1-_xlfn.BINOM.DIST(K15-1,$N15,$M$10,TRUE)","v":0.99745575232551342},{"$f":"1-_xlfn.BINOM.DIST(L15-1,$N15,$N$10,TRUE)","v":0.57391392386449591},{"$f":"1-_xlfn.BINOM.DIST(M15-1,$N15,$O$10,TRUE)","v":3.4654834685317715E-2},{"$f":"1-_xlfn.BINOM.DIST(L15+M15-1,N15,$N$10+$O$10,TRUE)","v":2.1838125872676861E-2},{"$f":"1-_xlfn.BINOM.DIST(K15+L15-1,N15,$M$10+$N$10,TRUE)","v":0.99117681925180778}]
[1983,8,27.5,0.9,1]
[1984,8,28.6,-0.6,-1]
[1985,8,27.9,-0.5,-1]
[1986,8,26.8,0.4,0]
[1987,8,27.3,1.5,1]
[1988,8,27,-1.5,-1]
[1989,8,27.1,-0.2,0]
[1990,8,28.6,0.3,0]
[1991,8,25.5,0.9,1]
[1992,8,27,0.1,0]
[1993,8,24.8,0.4,0]
[1994,8,28.9,0.1,0]
[1995,8,29.4,-0.5,-1]
[1996,8,26,-0.3,0]
[1997,8,27,2.7,1]
[1998,8,27.2,-0.5,-1]
[1999,8,28.5,-0.9,-1]
[2000,8,28.3,-0.4,0]
[2001,8,26.4,-0.2,0]
[2002,8,28,0.7,1]
[2003,8,26,0.1,0]
[2004,8,27.2,0.2,0]
[2005,8,28.1,0.1,0]
[2006,8,27.5,0.4,0]
[2007,8,29,-1.1000000000000001,-1]
[2008,8,26.8,0.2,0]
[2009,8,26.6,0.8,1]
[2010,8,29.6,-1.1000000000000001,-1]
[2011,8,27.5,-0.4,0]
[2012,8,29.1,0.5,0]
[2013,8,29.2,-0.5,0]
[2014,8,27.7,0.5,1]

{"sheet":"Temp. (detrend)","index":5,"n_rows":58,"n_cols":20,"rows_kept":58,"cut":false,"hidden":false,"merged":[]}
["Year","Month","Mean Temp. (detred)","Index","Event"]
[1958,8,0.38046882303449081,0.2,0,null,"Start Year",1958,null,"Options of tertile thresholds",null,null,"Cold","Normal","Warm","S1-Value","S2-Value"]
[1959,8,-4.1180704870527052E-2,-0.1,0,null,"End Year",2014,null,{"$f":"PERCENTILE(OFFSET($C$2,0,0,$H$8,1), 1/3)","v":-9.4446885419587331E-2},{"$f":"PERCENTILE(OFFSET($C$2,0,0,$H$8,1), 2/3)","v":0.15641285718737066},null,{"$f":"COUNTIF(OFFSET($C$2,0,0,$H$8,1),\"<=\"&$J3)","v":19},{"$f":"COUNTIF(OFFSET($C$2,0,0,$H$8,1),\"<=\"&$K3)-M3","v":18},{"$f":"COUNTIF(OFFSET($C$2,0,0,$H$8,1),\">\"&$K3)","v":19},{"$f":"(1/3-$M3/$H$9)^2+(1/3-$N3/$H$9)^2+(1/3-$O3/$H$9)^2","v":2.1258503401360524E-4},{"$f":"ABS($J$3-J3)+ABS($K$3-K3)","v":0}]
[1960,8,0.63716976722445295,0,0,null,"Calendar Month",8,null,{"$f":"J3-0.1","v":-0.19444688541958732},{"$f":"K3","v":0.15641285718737066},null,{"$f":"COUNTIF(OFFSET($C$2,0,0,$H$8,1),\"<=\"&$J4)","v":13},{"$f":"COUNTIF(OFFSET($C$2,0,0,$H$8,1),\"<=\"&$K4)-M4","v":24},{"$f":"COUNTIF(OFFSET($C$2,0,0,$H$8,1),\">\"&$K4)","v":19},{"$f":"(1/3-$M4/$H$9)^2+(1/3-$N4/$H$9)^2+(1/3-$O4/$H$9)^2","v":1.9345238095238089E-2},{"$f":"ABS($J$3-J4)+ABS($K$3-K4)","v":9.9999999999999992E-2}]
[1961,8,0.11552023931943367,-0.4,0,null,null,null,null,{"$f":"J3","v":-9.4446885419587331E-2},{"$f":"K3-0.1","v":5.6412857187370657E-2},null,{"$f":"COUNTIF(OFFSET($C$2,0,0,$H$8,1),\"<=\"&$J5)","v":19},{"$f":"COUNTIF(OFFSET($C$2,0,0,$H$8,1),\"<=\"&$K5)-M5","v":7},{"$f":"COUNTIF(OFFSET($C$2,0,0,$H$8,1),\">\"&$K5)","v":30},{"$f":"(1/3-$M5/$H$9)^2+(1/3-$N5/$H$9)^2+(1/3-$O5/$H$9)^2","v":8.439625850340135E-2},{"$f":"ABS($J$3-J5)+ABS($K$3-K5)","v":0.1}]
[1962,8,-6.1292885855870338E-3,-0.2,0,null,null,null,null,{"$f":"J3-0.1","v":-0.19444688541958732},{"$f":"K3-0.1","v":5.6412857187370657E-2},null,{"$f":"COUNTIF(OFFSET($C$2,0,0,$H$8,1),\"<=\"&$J6)","v":13},{"$f":"COUNTIF(OFFSET($C$2,0,0,$H$8,1),\"<=\"&$K6)-M6","v":13},{"$f":"COUNTIF(OFFSET($C$2,0,0,$H$8,1),\">\"&$K6)","v":30},{"$f":"(1/3-$M6/$H$9)^2+(1/3-$N6/$H$9)^2+(1/3-$O6/$H$9)^2","v":6.1437074829931965E-2},{"$f":"ABS($J$3-J6)+ABS($K$3-K6)","v":0.2}]
[1963,8,0.37222118350939581,0.9,1]
[1964,8,0.25057165560437511,-0.8,-1,null,"Total Year",{"$f":"H3-H2+1","v":57}]
[1965,8,-0.67107787230064275,1.3,1,null,"Effective Year",{"$f":"COUNT(OFFSET($C$2,0,0,$H$8,1))","v":56},null,"Tertile thresholds",null,"Probability","Cold","Normal","Warm"]
[1966,8,0.10727259979433157,-0.1,0,null,null,null,null,-9.4446885419587331E-2,0.15641285718737066,null,{"$f":"M3/SUM($M$3:$O$3)","v":0.3392857142857143},{"$f":"N3/SUM($M$3:$O$3)","v":0.32142857142857145},{"$f":"O3/SUM($M$3:$O$3)","v":0.3392857142857143}]
[1967,8,-1.4376928110689136E-2,-0.4,0,null,"Sampling bias rate(%)",{"$f":"ABS($N$13-$N$15)/$N$14*100","v":0}]
[1968,8,0.16397354398429087,0.4,0,null,null,null,null,"Count","Cold","Normal","Warm","Sum."]
[1969,8,-0.75767598392072699,0.7,1,null,null,null,null,{"$f":"'Event index'!$F$4","v":"El Nino"},{"$f":"COUNTIFS(OFFSET($C$2,0,0,$H$8,1),\"<=\"&$J$10,OFFSET($E$2,0,0,$H$8,1),1)","v":8},{"$f":"COUNTIFS(OFFSET($C$2,0,0,$H$8,1),\">\"&$J$10,OFFSET($C$2,0,0,$H$8,1),\"<=\"&$K$10,OFFSET($E$2,0,0,$H$8,1),1)","v":2},{"$f":"COUNTIFS(OFFSET($C$2,0,0,$H$8,1),\">\"&$K$10,OFFSET($E$2,0,0,$H$8,1),1)","v":3},{"$f":"SUM(K13:M13)","v":13}]
[1970,8,-7.9325511825746986E-2,-1,-1,null,null,null,null,{"$f":"'Event index'!$D$4","v":"Neutral"},{"$f":"COUNTIFS(OFFSET($C$2,0,0,$H$8,1),\"<=\"&$J$10,OFFSET($E$2,0,0,$H$8,1),0)","v":6},{"$f":"COUNTIFS(OFFSET($C$2,0,0,$H$8,1),\">\"&$J$10,OFFSET($C$2,0,0,$H$8,1),\"<=\"&$K$10,OFFSET($E$2,0,0,$H$8,1),0)","v":13},{"$f":"COUNTIFS(OFFSET($C$2,0,0,$H$8,1),\">\"&$K$10,OFFSET($E$2,0,0,$H$8,1),0)","v":11},{"$f":"SUM(K14:M14)","v":30}]
[1971,8,-1.6009750397307663,-0.6,-1,null,null,null,null,{"$f":"'Event index'!$B$4","v":"La Nina"},{"$f":"COUNTIFS(OFFSET($C$2,0,0,$H$8,1),\"<=\"&$J$10,OFFSET($E$2,0,0,$H$8,1),-1)","v":5},{"$f":"COUNTIFS(OFFSET($C$2,0,0,$H$8,1),\">\"&$J$10,OFFSET($C$2,0,0,$H$8,1),\"<=\"&$K$10,OFFSET($E$2,0,0,$H$8,1),-1)","v":3},{"$f":"COUNTIFS(OFFSET($C$2,0,0,$H$8,1),\">\"&$K$10,OFFSET($E$2,0,0,$H$8,1),-1)","v":5},{"$f":"SUM(K15:M15)","v":13}]
[1972,8,-0.82262456763578484,1.8,1]
[1973,8,-0.14427409554080484,-0.9,-1,null,"Linear Regression",null,null,"Percentage","Cold","Normal","Warm","Sum."]
[1974,8,null,-0.1,0,null,"a",2.1649527905020106E-2,null,{"$f":"'Event index'!$F$4","v":"El Nino"},{"$f":"INT(K13/$N13*100+0.5)","v":62},15,23,{"$f":"SUM(K18:M18)","v":100}]
[1975,8,-0.18757315135085051,-0.8,-1,null,"b",-14.070244461063862,null,{"$f":"'Event index'!$D$4","v":"Neutral"},20,43,37,{"$f":"SUM(K19:M19)","v":100}]
[1976,8,-0.80922267925587121,1.1000000000000001,1,null,"rsq",0.38141906407509241,null,{"$f":"'Event index'!$B$4","v":"La Nina"},38,23,38,{"$f":"SUM(K20:M20)","v":99}]
[1977,8,0.26912779283911092,0.2,0]
[1978,8,0.34747826493409306,-0.5,0,null,null,null,null,"Binomial test: (p-value)",null,null,null,null,null,null,"Correlation","r","t-value","p-value"]
[1979,8,0.22582873702907236,0.4,0,null,null,null,null,null,"Cold","Normal","Warm","Not Cold","Not Warm",null,null,{"$f":"CORREL(OFFSET($D$2,0,0,$H$8,1), OFFSET($C$2,0,0,$H$8,1))","v":-0.1234260237308421},{"$f":"R23*SQRT($H$9-2)/SQRT(1-R23*R23)","v":-0.91398083962990329},{"$f":"TDIST(ABS(S23),$H$9-2,2)","v":0.36478997167230431}]
[1980,8,0.10417920912405165,0.1,0,null,null,null,null,{"$f":"'Event index'!$F$4","v":"El Nino"},{"$f":"1-_xlfn.BINOM.DIST(K13-1,$N13,$M$10,TRUE)","v":3.8495685647720101E-2},{"$f":"1-_xlfn.BINOM.DIST(L13-1,$N13,$N$10,TRUE)","v":0.95370567967330266},{"$f":"1-_xlfn.BINOM.DIST(M13-1,$N13,$O$10,TRUE)","v":0.87084718981236542},{"$f":"1-_xlfn.BINOM.DIST(L13+M13-1,N13,$N$10+$O$10,TRUE)","v":0.98996016834286449},{"$f":"1-_xlfn.BINOM.DIST(K13+L13-1,N13,$M$10+$N$10,TRUE)","v":0.30624512942055093}]
[1981,8,0.58252968121903237,0,0,null,null,null,null,{"$f":"'Event index'!$D$4","v":"Neutral"},{"$f":"1-_xlfn.BINOM.DIST(K14-1,$N14,$M$10,TRUE)","v":0.96941618899072279},{"$f":"1-_xlfn.BINOM.DIST(L14-1,$N14,$N$10,TRUE)","v":0.13284904254105678},{"$f":"1-_xlfn.BINOM.DIST(M14-1,$N14,$O$10,TRUE)","v":0.44266544800656393},{"$f":"1-_xlfn.BINOM.DIST(L14+M14-1,N14,$N$10+$O$10,TRUE)","v":7.3969258521351611E-2},{"$f":"1-_xlfn.BINOM.DIST(K14+L14-1,N14,$M$10+$N$10,TRUE)","v":0.69985963192688261}]
[1982,8,-0.33911984668598549,1.5,1,null,null,null,null,{"$f":"'Event index'!$B$4","v":"La Nina"},{"$f":"1-_xlfn.BINOM.DIST(K15-1,$N15,$M$10,TRUE)","v":0.46640662291557033},{"$f":"1-_xlfn.BINOM.DIST(L15-1,$N15,$N$10,TRUE)","v":0.84051391658349073},{"$f":"1-_xlfn.BINOM.DIST(M15-1,$N15,$O$10,TRUE)","v":0.46640662291557033},{"$f":"1-_xlfn.BINOM.DIST(L15+M15-1,N15,$N$10+$O$10,TRUE)","v":0.74373689249266406},{"$f":"1-_xlfn.BINOM.DIST(K15+L15-1,N15,$M$10+$N$10,TRUE)","v":0.74373689249266406}]
[1983,8,-0.16076937459100549,0.9,1]
[1984,8,-0.18241890249603188,-0.6,-1]
[1985,8,0.29593156959894884,-0.5,-1]
[1986,8,0.87428204169393098,0.4,0]
[1987,8,0.25263251378891027,1.5,1]
[1988,8,0.43098298588389028,-1.5,-1]
[1989,8,0.909333457978871,-0.2,0]
[1990,8,0.48768393007385313,0.3,0]
[1991,8,6.6034402168835271E-2,0.9,1]
[1992,8,4.4384874263808882E-2,0.1,0]
[1993,8,-0.37726465364121253,0.4,0]
[1994,8,0.10108581845376818,0.1,0]
[1995,8,0.37943629054874961,-0.5,-1]
[1996,8,-0.14221323735626967,-0.3,0]
[1997,8,0.53613723473871033,2.7,1]
[1998,8,0.11448770683369247,-0.5,-1]
[1999,8,-0.20716182107132752,-0.9,-1]
[2000,8,-2.8811348976347517E-2,-0.4,0]
[2001,8,-0.45046087688137249,-0.2,0]
[2002,8,-0.8721104047863939,0.7,1]
[2003,8,0.20624006730858824,0.1,0]
[2004,8,8.4590539403567533E-2,0.2,0]
[2005,8,6.2941011498548249E-2,0.1,0]
[2006,8,0.14129148359353039,0.4,0]
[2007,8,0.1196419556885111,-1.1000000000000001,-1]
[2008,8,-0.10200757221650747,0.2,0]
[2009,8,-2.3657100121528885E-2,0.8,1]
[2010,8,0.65469337197344757,-1.1000000000000001,-1]
[2011,8,-0.66695615593157243,-0.4,0]
[2012,8,0.111394316163409,0.5,0]
[2013,8,-0.41025521174161028,-0.5,0]
[2014,8,-0.3319047396466317,0.5,1]

{"sheet":"Work","index":6,"n_rows":12,"n_cols":12,"rows_kept":12,"cut":false,"hidden":false,"merged":[]}
[null,null,null,null,null,null,null,null,null,null,1,"1-mon"]
[null,null,null,null,null,null,null,null,null,null,2,"3-mon"]
[null,null,null,null,null,null,null,null,null,null,3]
[null,null,null,null,null,null,null,null,null,null,4]
[null,null,null,null,null,null,null,null,null,null,5]
[null,null,null,null,null,null,null,null,null,null,6]
[null,null,null,null,null,null,null,null,null,null,7]
[null,null,null,null,null,null,null,null,null,null,8]
[null,null,null,null,null,null,null,null,null,null,9]
[null,null,null,null,null,null,null,null,null,null,10]
[null,null,null,null,null,null,null,null,null,null,11]
[null,null,null,null,null,null,null,null,null,null,12]